Package: GeneRegionScan Version: 1.67.0 Command: rm -rf GeneRegionScan.buildbin-libdir && mkdir GeneRegionScan.buildbin-libdir && /Users/biocbuild/BBS/utils/build-universal.sh GeneRegionScan_1.67.0.tar.gz /Library/Frameworks/R.framework/Resources/bin/R GeneRegionScan.buildbin-libdir StartedAt: 2025-11-14 23:34:05 -0500 (Fri, 14 Nov 2025) EndedAt: 2025-11-14 23:34:13 -0500 (Fri, 14 Nov 2025) EllapsedTime: 8.2 seconds RetCode: 0 Status: OK PackageFile: GeneRegionScan_1.67.0.tgz PackageFileSize: 7.685 MiB