Package: GeneRegionScan Version: 1.67.0 Maintainer: Lasse Folkersen MaintainerEmail: lasfol at cbs.dtu.dk git_url: https://git.bioconductor.org/packages/GeneRegionScan git_branch: devel git_last_commit: e7590a3 git_last_commit_date: 2025-10-29 10:02:41 -0500 (Wed, 29 Oct 2025)