Package: GeneOverlap Version: 1.47.0 Command: /Library/Frameworks/R.framework/Resources/bin/R CMD build --keep-empty-dirs --no-resave-data GeneOverlap StartedAt: 2025-11-14 16:25:54 -0500 (Fri, 14 Nov 2025) EndedAt: 2025-11-14 16:26:00 -0500 (Fri, 14 Nov 2025) EllapsedTime: 6.1 seconds RetCode: 0 Status: OK PackageFile: GeneOverlap_1.47.0.tar.gz PackageFileSize: 360.8 KiB