Package: GeneOverlap Version: 1.47.0 Command: rm -rf GeneOverlap.buildbin-libdir && mkdir GeneOverlap.buildbin-libdir && /Users/biocbuild/BBS/utils/build-universal.sh GeneOverlap_1.47.0.tar.gz /Library/Frameworks/R.framework/Resources/bin/R GeneOverlap.buildbin-libdir StartedAt: 2025-11-14 23:34:03 -0500 (Fri, 14 Nov 2025) EndedAt: 2025-11-14 23:34:05 -0500 (Fri, 14 Nov 2025) EllapsedTime: 2.0 seconds RetCode: 0 Status: OK PackageFile: GeneOverlap_1.47.0.tgz PackageFileSize: 539.6 KiB