Package: GeneMeta Version: 1.83.0 Command: rm -rf GeneMeta.buildbin-libdir && mkdir GeneMeta.buildbin-libdir && /Users/biocbuild/BBS/utils/build-universal.sh GeneMeta_1.83.0.tar.gz /Library/Frameworks/R.framework/Resources/bin/R GeneMeta.buildbin-libdir StartedAt: 2025-11-18 00:34:45 -0500 (Tue, 18 Nov 2025) EndedAt: 2025-11-18 00:34:55 -0500 (Tue, 18 Nov 2025) EllapsedTime: 9.2 seconds RetCode: 0 Status: OK PackageFile: GeneMeta_1.83.0.tgz PackageFileSize: 2.74 MiB