Package: GeneExpressionSignature Version: 1.57.0 Command: /home/biocbuild/bbs-3.23-bioc/R/bin/R CMD INSTALL GeneExpressionSignature StartedAt: 2025-11-13 15:13:16 -0500 (Thu, 13 Nov 2025) EndedAt: 2025-11-13 15:13:20 -0500 (Thu, 13 Nov 2025) EllapsedTime: 3.6 seconds RetCode: 0 Status: OK