Package: GeneExpressionSignature Version: 1.57.0 Command: /home/biocbuild/bbs-3.23-bioc/R/bin/R CMD build --keep-empty-dirs --no-resave-data GeneExpressionSignature StartedAt: 2025-11-14 17:43:13 -0500 (Fri, 14 Nov 2025) EndedAt: 2025-11-14 17:43:38 -0500 (Fri, 14 Nov 2025) EllapsedTime: 25.0 seconds RetCode: 0 Status: OK PackageFile: GeneExpressionSignature_1.57.0.tar.gz PackageFileSize: 2.545 MiB