Package: GeneExpressionSignature Version: 1.57.0 Command: /Library/Frameworks/R.framework/Resources/bin/R CMD INSTALL GeneExpressionSignature StartedAt: 2025-11-13 15:07:14 -0500 (Thu, 13 Nov 2025) EndedAt: 2025-11-13 15:07:16 -0500 (Thu, 13 Nov 2025) EllapsedTime: 1.9 seconds RetCode: 0 Status: OK