Package: GeneExpressionSignature Version: 1.57.0 Command: /Library/Frameworks/R.framework/Resources/bin/R CMD build --keep-empty-dirs --no-resave-data GeneExpressionSignature StartedAt: 2025-11-13 16:28:44 -0500 (Thu, 13 Nov 2025) EndedAt: 2025-11-13 16:28:57 -0500 (Thu, 13 Nov 2025) EllapsedTime: 12.2 seconds RetCode: 0 Status: OK PackageFile: GeneExpressionSignature_1.57.0.tar.gz PackageFileSize: 2.545 MiB