Package: GeneExpressionSignature Version: 1.57.0 Maintainer: Yang Cao MaintainerEmail: yiluheihei at gmail.com git_url: https://git.bioconductor.org/packages/GeneExpressionSignature git_branch: devel git_last_commit: 92f29f1 git_last_commit_date: 2025-10-29 10:08:36 -0500 (Wed, 29 Oct 2025)