Package: GenVisR Version: 1.43.0 Command: /home/biocbuild/bbs-3.23-bioc/R/bin/R CMD build --keep-empty-dirs --no-resave-data GenVisR StartedAt: 2025-11-13 17:46:52 -0500 (Thu, 13 Nov 2025) EndedAt: 2025-11-13 17:49:31 -0500 (Thu, 13 Nov 2025) EllapsedTime: 159.1 seconds RetCode: 0 Status: OK PackageFile: GenVisR_1.43.0.tar.gz PackageFileSize: 4.927 MiB