Package: GenVisR Version: 1.43.0 Command: /Library/Frameworks/R.framework/Resources/bin/R CMD INSTALL GenVisR StartedAt: 2025-11-13 15:22:12 -0500 (Thu, 13 Nov 2025) EndedAt: 2025-11-13 15:22:32 -0500 (Thu, 13 Nov 2025) EllapsedTime: 20.8 seconds RetCode: 0 Status: OK