Package: GenVisR Version: 1.43.0 Command: /Library/Frameworks/R.framework/Resources/bin/R CMD build --keep-empty-dirs --no-resave-data GenVisR StartedAt: 2025-11-13 16:31:00 -0500 (Thu, 13 Nov 2025) EndedAt: 2025-11-13 16:32:02 -0500 (Thu, 13 Nov 2025) EllapsedTime: 61.6 seconds RetCode: 0 Status: OK PackageFile: GenVisR_1.43.0.tar.gz PackageFileSize: 4.719 MiB