Package: GenVisR Version: 1.43.0 Maintainer: Zachary Skidmore MaintainerEmail: zlskidmore at gmail.com git_url: https://git.bioconductor.org/packages/GenVisR git_branch: devel git_last_commit: e398c9b git_last_commit_date: 2025-10-29 10:29:36 -0500 (Wed, 29 Oct 2025)