Package: GenProSeq Version: 1.15.0 Command: /home/biocbuild/bbs-3.23-bioc/R/bin/R CMD INSTALL GenProSeq StartedAt: 2025-11-13 15:11:48 -0500 (Thu, 13 Nov 2025) EndedAt: 2025-11-13 15:11:59 -0500 (Thu, 13 Nov 2025) EllapsedTime: 11.3 seconds RetCode: 0 Status: OK