Package: GeDi Version: 1.7.0 Command: /home/biocbuild/bbs-3.23-bioc/R/bin/R CMD INSTALL GeDi StartedAt: 2025-11-13 15:50:32 -0500 (Thu, 13 Nov 2025) EndedAt: 2025-11-13 15:51:27 -0500 (Thu, 13 Nov 2025) EllapsedTime: 55.2 seconds RetCode: 0 Status: OK