Package: GeDi Version: 1.7.0 Command: /Library/Frameworks/R.framework/Resources/bin/R CMD INSTALL GeDi StartedAt: 2025-11-13 15:29:57 -0500 (Thu, 13 Nov 2025) EndedAt: 2025-11-13 15:30:19 -0500 (Thu, 13 Nov 2025) EllapsedTime: 22.3 seconds RetCode: 0 Status: OK