Package: GeDi Version: 1.7.0 Command: /Library/Frameworks/R.framework/Resources/bin/R CMD build --keep-empty-dirs --no-resave-data GeDi StartedAt: 2025-11-13 16:28:14 -0500 (Thu, 13 Nov 2025) EndedAt: 2025-11-13 16:29:29 -0500 (Thu, 13 Nov 2025) EllapsedTime: 74.9 seconds RetCode: 0 Status: OK PackageFile: GeDi_1.7.0.tar.gz PackageFileSize: 3.413 MiB