Package: GeDi Version: 1.7.0 Maintainer: Annekathrin Nedwed MaintainerEmail: anneludt at uni-mainz.de git_url: https://git.bioconductor.org/packages/GeDi git_branch: devel git_last_commit: 5d8ba6c git_last_commit_date: 2025-10-29 11:29:41 -0500 (Wed, 29 Oct 2025)