Package: GateFinder Version: 1.31.0 Command: /home/biocbuild/bbs-3.23-bioc/R/bin/R CMD build --keep-empty-dirs --no-resave-data GateFinder StartedAt: 2025-11-13 17:40:46 -0500 (Thu, 13 Nov 2025) EndedAt: 2025-11-13 17:41:04 -0500 (Thu, 13 Nov 2025) EllapsedTime: 18.0 seconds RetCode: 0 Status: OK PackageFile: GateFinder_1.31.0.tar.gz PackageFileSize: 582 KiB