Package: GateFinder Version: 1.31.0 Command: /Library/Frameworks/R.framework/Resources/bin/R CMD INSTALL GateFinder StartedAt: 2025-11-13 15:07:37 -0500 (Thu, 13 Nov 2025) EndedAt: 2025-11-13 15:07:42 -0500 (Thu, 13 Nov 2025) EllapsedTime: 4.6 seconds RetCode: 0 Status: OK