Package: GateFinder Version: 1.31.0 Command: /Library/Frameworks/R.framework/Resources/bin/R CMD build --keep-empty-dirs --no-resave-data GateFinder StartedAt: 2025-11-13 16:27:11 -0500 (Thu, 13 Nov 2025) EndedAt: 2025-11-13 16:27:22 -0500 (Thu, 13 Nov 2025) EllapsedTime: 10.1 seconds RetCode: 0 Status: OK PackageFile: GateFinder_1.31.0.tar.gz PackageFileSize: 582 KiB