Package: GateFinder Version: 1.31.0 Maintainer: Nima Aghaeepour MaintainerEmail: naghaeep at gmail.com git_url: https://git.bioconductor.org/packages/GateFinder git_branch: devel git_last_commit: d71fb75 git_last_commit_date: 2025-10-29 10:44:12 -0500 (Wed, 29 Oct 2025)