Package: GWASTools Version: 1.57.0 Command: /home/biocbuild/bbs-3.23-bioc/R/bin/R CMD INSTALL GWASTools StartedAt: 2025-11-11 15:16:05 -0500 (Tue, 11 Nov 2025) EndedAt: 2025-11-11 15:16:29 -0500 (Tue, 11 Nov 2025) EllapsedTime: 23.5 seconds RetCode: 0 Status: OK