Package: GWASTools Version: 1.57.0 Command: /home/biocbuild/bbs-3.23-bioc/R/bin/R CMD build --keep-empty-dirs --no-resave-data GWASTools StartedAt: 2025-11-11 18:03:46 -0500 (Tue, 11 Nov 2025) EndedAt: 2025-11-11 18:04:32 -0500 (Tue, 11 Nov 2025) EllapsedTime: 46.0 seconds RetCode: 0 Status: OK PackageFile: GWASTools_1.57.0.tar.gz PackageFileSize: 1.93 MiB