Package: GWASTools Version: 1.57.0 Command: /Library/Frameworks/R.framework/Resources/bin/R CMD INSTALL GWASTools StartedAt: 2025-11-12 15:21:36 -0500 (Wed, 12 Nov 2025) EndedAt: 2025-11-12 15:21:37 -0500 (Wed, 12 Nov 2025) EllapsedTime: 1.1 seconds RetCode: 1 Status: ERROR