############################################################################## ############################################################################## ### ### Running command: ### ### /Library/Frameworks/R.framework/Resources/bin/R CMD build --keep-empty-dirs --no-resave-data GWASTools ### ############################################################################## ############################################################################## * checking for file ‘GWASTools/DESCRIPTION’ ... OK * preparing ‘GWASTools’: * checking DESCRIPTION meta-information ... OK * installing the package (it is needed to build vignettes) ----------------------------------- ERROR: dependency ‘gdsfmt’ is not available for package ‘GWASTools’ Perhaps try a variation of: install.packages('gdsfmt') * removing ‘/private/var/folders/r0/l4fjk6cj5xj0j3brt4bplpl40000gt/T/Rtmp8lVb6O/Rinstc1841fbf543a/GWASTools’ ----------------------------------- ERROR: package installation failed