Package: GWASTools Version: 1.57.0 Maintainer: Stephanie M. Gogarten MaintainerEmail: sdmorris at uw.edu git_url: https://git.bioconductor.org/packages/GWASTools git_branch: devel git_last_commit: 224f71a git_last_commit_date: 2025-10-29 10:09:16 -0500 (Wed, 29 Oct 2025)