Package: GWAS.BAYES Version: 1.21.0 Command: /home/biocbuild/bbs-3.23-bioc/R/bin/R CMD INSTALL GWAS.BAYES StartedAt: 2025-11-14 15:10:37 -0500 (Fri, 14 Nov 2025) EndedAt: 2025-11-14 15:10:48 -0500 (Fri, 14 Nov 2025) EllapsedTime: 10.5 seconds RetCode: 0 Status: OK