Package: GWAS.BAYES Version: 1.21.0 Command: /Library/Frameworks/R.framework/Resources/bin/R CMD INSTALL GWAS.BAYES StartedAt: 2025-11-14 15:06:06 -0500 (Fri, 14 Nov 2025) EndedAt: 2025-11-14 15:06:11 -0500 (Fri, 14 Nov 2025) EllapsedTime: 4.1 seconds RetCode: 0 Status: OK