Package: GWAS.BAYES Version: 1.21.0 Command: /Library/Frameworks/R.framework/Resources/bin/R CMD build --keep-empty-dirs --no-resave-data GWAS.BAYES StartedAt: 2025-11-14 16:35:44 -0500 (Fri, 14 Nov 2025) EndedAt: 2025-11-14 16:36:57 -0500 (Fri, 14 Nov 2025) EllapsedTime: 72.7 seconds RetCode: 0 Status: OK PackageFile: GWAS.BAYES_1.21.0.tar.gz PackageFileSize: 1.347 MiB