Package: GUIDEseq Version: 1.41.0 Command: /home/biocbuild/bbs-3.23-bioc/R/bin/R CMD INSTALL GUIDEseq StartedAt: 2025-11-11 15:56:08 -0500 (Tue, 11 Nov 2025) EndedAt: 2025-11-11 15:56:22 -0500 (Tue, 11 Nov 2025) EllapsedTime: 13.4 seconds RetCode: 1 Status: ERROR