Package: GUIDEseq Version: 1.41.0 Maintainer: Lihua Julie Zhu MaintainerEmail: julie.zhu at umassmed.edu git_url: https://git.bioconductor.org/packages/GUIDEseq git_branch: devel git_last_commit: 4a812cc git_last_commit_date: 2025-10-29 10:28:16 -0500 (Wed, 29 Oct 2025)