Package: GSVA Version: 2.5.6 Command: /Library/Frameworks/R.framework/Resources/bin/R CMD INSTALL GSVA StartedAt: 2025-11-16 15:29:55 -0500 (Sun, 16 Nov 2025) EndedAt: 2025-11-16 15:30:16 -0500 (Sun, 16 Nov 2025) EllapsedTime: 20.6 seconds RetCode: 0 Status: OK