Package: GSVA Version: 2.5.6 Command: /Library/Frameworks/R.framework/Resources/bin/R CMD build --keep-empty-dirs --no-resave-data GSVA StartedAt: 2025-11-16 16:35:24 -0500 (Sun, 16 Nov 2025) EndedAt: 2025-11-16 16:37:05 -0500 (Sun, 16 Nov 2025) EllapsedTime: 101.1 seconds RetCode: 0 Status: OK PackageFile: GSVA_2.5.6.tar.gz PackageFileSize: 3.184 MiB