Package: GSVA Version: 2.5.6 Command: rm -rf GSVA.buildbin-libdir && mkdir GSVA.buildbin-libdir && /Users/biocbuild/BBS/utils/build-universal.sh GSVA_2.5.6.tar.gz /Library/Frameworks/R.framework/Resources/bin/R GSVA.buildbin-libdir StartedAt: 2025-11-16 23:36:53 -0500 (Sun, 16 Nov 2025) EndedAt: 2025-11-16 23:37:15 -0500 (Sun, 16 Nov 2025) EllapsedTime: 21.5 seconds RetCode: 0 Status: OK PackageFile: GSVA_2.5.6.tgz PackageFileSize: 3.171 MiB