Package: GSReg Version: 1.45.0 Command: /home/biocbuild/bbs-3.23-bioc/R/bin/R CMD INSTALL GSReg StartedAt: 2025-11-14 16:00:20 -0500 (Fri, 14 Nov 2025) EndedAt: 2025-11-14 16:00:58 -0500 (Fri, 14 Nov 2025) EllapsedTime: 37.5 seconds RetCode: 0 Status: OK