Package: GSReg Version: 1.45.0 Command: /home/biocbuild/bbs-3.23-bioc/R/bin/R CMD build --keep-empty-dirs --no-resave-data GSReg StartedAt: 2025-11-14 17:59:12 -0500 (Fri, 14 Nov 2025) EndedAt: 2025-11-14 18:00:39 -0500 (Fri, 14 Nov 2025) EllapsedTime: 87.1 seconds RetCode: 0 Status: OK PackageFile: GSReg_1.45.0.tar.gz PackageFileSize: 469.2 KiB