Package: GSReg Version: 1.45.0 Command: /Library/Frameworks/R.framework/Resources/bin/R CMD INSTALL GSReg StartedAt: 2025-11-14 15:31:49 -0500 (Fri, 14 Nov 2025) EndedAt: 2025-11-14 15:32:04 -0500 (Fri, 14 Nov 2025) EllapsedTime: 15.3 seconds RetCode: 0 Status: OK