Package: GSReg Version: 1.45.0 Command: /Library/Frameworks/R.framework/Resources/bin/R CMD build --keep-empty-dirs --no-resave-data GSReg StartedAt: 2025-11-14 16:35:04 -0500 (Fri, 14 Nov 2025) EndedAt: 2025-11-14 16:35:43 -0500 (Fri, 14 Nov 2025) EllapsedTime: 39.4 seconds RetCode: 0 Status: OK PackageFile: GSReg_1.45.0.tar.gz PackageFileSize: 469.3 KiB