Package: GSReg Version: 1.45.0 Command: rm -rf GSReg.buildbin-libdir && mkdir GSReg.buildbin-libdir && /Users/biocbuild/BBS/utils/build-universal.sh GSReg_1.45.0.tar.gz /Library/Frameworks/R.framework/Resources/bin/R GSReg.buildbin-libdir StartedAt: 2025-11-14 23:35:41 -0500 (Fri, 14 Nov 2025) EndedAt: 2025-11-14 23:36:01 -0500 (Fri, 14 Nov 2025) EllapsedTime: 19.4 seconds RetCode: 0 Status: OK PackageFile: GSReg_1.45.0.tgz PackageFileSize: 385.5 KiB