Package: GSReg Version: 1.45.0 Maintainer: Bahman Afsari , Elana J. Fertig MaintainerEmail: ejfertig at jhmi.edu git_url: https://git.bioconductor.org/packages/GSReg git_branch: devel git_last_commit: a73ad30 git_last_commit_date: 2025-10-29 10:20:24 -0500 (Wed, 29 Oct 2025)