Package: GSRI Version: 2.59.0 Command: /home/biocbuild/bbs-3.23-bioc/R/bin/R CMD INSTALL GSRI StartedAt: 2025-11-19 15:35:42 -0500 (Wed, 19 Nov 2025) EndedAt: 2025-11-19 15:36:02 -0500 (Wed, 19 Nov 2025) EllapsedTime: 20.3 seconds RetCode: 0 Status: OK