Package: GSRI Version: 2.59.0 Command: /home/biocbuild/bbs-3.23-bioc/R/bin/R CMD build --keep-empty-dirs --no-resave-data GSRI StartedAt: 2025-11-19 18:02:36 -0500 (Wed, 19 Nov 2025) EndedAt: 2025-11-19 18:03:15 -0500 (Wed, 19 Nov 2025) EllapsedTime: 39.1 seconds RetCode: 0 Status: OK PackageFile: GSRI_2.59.0.tar.gz PackageFileSize: 338.6 KiB