Package: GSRI Version: 2.59.0 Command: /Library/Frameworks/R.framework/Resources/bin/R CMD INSTALL GSRI StartedAt: 2025-11-13 15:09:45 -0500 (Thu, 13 Nov 2025) EndedAt: 2025-11-13 15:09:54 -0500 (Thu, 13 Nov 2025) EllapsedTime: 8.1 seconds RetCode: 0 Status: OK