Package: GSRI Version: 2.59.0 Command: /Library/Frameworks/R.framework/Resources/bin/R CMD build --keep-empty-dirs --no-resave-data GSRI StartedAt: 2025-11-13 16:38:15 -0500 (Thu, 13 Nov 2025) EndedAt: 2025-11-13 16:38:35 -0500 (Thu, 13 Nov 2025) EllapsedTime: 19.2 seconds RetCode: 0 Status: OK PackageFile: GSRI_2.59.0.tar.gz PackageFileSize: 339.4 KiB