Package: GSEAmining Version: 1.21.0 Command: /home/biocbuild/bbs-3.23-bioc/R/bin/R CMD INSTALL GSEAmining StartedAt: 2025-11-13 15:10:59 -0500 (Thu, 13 Nov 2025) EndedAt: 2025-11-13 15:11:09 -0500 (Thu, 13 Nov 2025) EllapsedTime: 10.1 seconds RetCode: 0 Status: OK