Package: GSEAmining Version: 1.21.0 Command: /home/biocbuild/bbs-3.23-bioc/R/bin/R CMD build --keep-empty-dirs --no-resave-data GSEAmining StartedAt: 2025-11-11 18:02:08 -0500 (Tue, 11 Nov 2025) EndedAt: 2025-11-11 18:03:01 -0500 (Tue, 11 Nov 2025) EllapsedTime: 53.1 seconds RetCode: 0 Status: OK PackageFile: GSEAmining_1.21.0.tar.gz PackageFileSize: 2.813 MiB