Package: GSEAmining Version: 1.21.0 Command: rm -rf GSEAmining.buildbin-libdir && mkdir GSEAmining.buildbin-libdir && /Users/biocbuild/BBS/utils/build-universal.sh GSEAmining_1.21.0.tar.gz /Library/Frameworks/R.framework/Resources/bin/R GSEAmining.buildbin-libdir StartedAt: 2025-11-12 20:59:33 -0500 (Wed, 12 Nov 2025) EndedAt: 2025-11-12 20:59:38 -0500 (Wed, 12 Nov 2025) EllapsedTime: 5.1 seconds RetCode: 0 Status: OK PackageFile: GSEAmining_1.21.0.tgz PackageFileSize: 1.507 MiB