Package: GSEAmining Version: 1.21.0 Maintainer: Oriol Arqués MaintainerEmail: oriol.arques at gmail.com git_url: https://git.bioconductor.org/packages/GSEAmining git_branch: devel git_last_commit: 74ec804 git_last_commit_date: 2025-10-29 11:00:36 -0500 (Wed, 29 Oct 2025)